BEGIN:VCALENDAR
VERSION:2.0
PRODID:-//rssny.org//NONSGML kigkonsult.se iCalcreator 2.30.10//
CALSCALE:GREGORIAN
METHOD:PUBLISH
UID:55f81d5d-3152-4050-bfb2-966aaea268e5
X-WR-CALDESC:Join us on the RSS Terrace Garden where you will help plant he
 rbs and vegetables to share with the members. Help to create a beneficial 
 native plant garden that will beautify the neighborhood.
X-WR-RELCALID:36f61309d078839aca5d4830af1f8824
X-WR-TIMEZONE:America/New_York
BEGIN:VTIMEZONE
TZID:America/New_York
BEGIN:STANDARD
TZNAME:EST
DTSTART:20241103T020000
TZOFFSETFROM:-0400
TZOFFSETTO:-0500
RDATE:20251102T020000
RDATE:20261101T020000
END:STANDARD
BEGIN:DAYLIGHT
TZNAME:EDT
DTSTART:20250309T020000
TZOFFSETFROM:-0500
TZOFFSETTO:-0400
RDATE:20260308T020000
END:DAYLIGHT
END:VTIMEZONE
BEGIN:VEVENT
UID:48516b7d-4ac0-4830-a13c-4d7d533162c4
DTSTAMP:20260425T105039Z
DESCRIPTION:Join us on the RSS Terrace Garden where you will help plant her
 bs and vegetables to share with the members. Help to create a beneficial n
 ative plant garden that will beautify the neighborhood.
DTSTART;TZID=America/New_York:20250613T150000
DTEND;TZID=America/New_York:20250613T160000
LOCATION:
SUMMARY:Gardening Group (In Center)
END:VEVENT
END:VCALENDAR
