BEGIN:VCALENDAR
VERSION:2.0
PRODID:-//rssny.org//NONSGML kigkonsult.se iCalcreator 2.30.10//
CALSCALE:GREGORIAN
METHOD:PUBLISH
UID:1eb4df1c-e45f-43ab-8fd7-023ca4a42677
X-WR-CALDESC:
X-WR-RELCALID:3aff820dd048da69819c1fd289b07494
X-WR-TIMEZONE:America/New_York
BEGIN:VTIMEZONE
TZID:America/New_York
BEGIN:STANDARD
TZNAME:EST
DTSTART:20241103T020000
TZOFFSETFROM:-0400
TZOFFSETTO:-0500
RDATE:20251102T020000
RDATE:20261101T020000
END:STANDARD
BEGIN:DAYLIGHT
TZNAME:EDT
DTSTART:20250309T020000
TZOFFSETFROM:-0500
TZOFFSETTO:-0400
RDATE:20260308T020000
END:DAYLIGHT
END:VTIMEZONE
BEGIN:VEVENT
UID:a38c05c2-4532-4109-959f-eac8213b3c6e
DTSTAMP:20260425T104948Z
DESCRIPTION:
DTSTART;TZID=America/New_York:20250612T100000
DTEND;TZID=America/New_York:20250612T120000
LOCATION:
SUMMARY:Knitting Sale (In Center)
END:VEVENT
END:VCALENDAR
