BEGIN:VCALENDAR
VERSION:2.0
PRODID:-//rssny.org//NONSGML kigkonsult.se iCalcreator 2.30.10//
CALSCALE:GREGORIAN
METHOD:PUBLISH
UID:51532044-6771-46b2-8498-7f4b41fdd46f
X-WR-CALDESC:Join us for this special event to celebrate Juneteenth at RSS 
 with Cheryl Warfield. \n\nSponsored by NYC Cultural Affairs
X-WR-RELCALID:915f848f99038d12b3c0aa599bd1db0b
X-WR-TIMEZONE:America/New_York
BEGIN:VTIMEZONE
TZID:America/New_York
BEGIN:STANDARD
TZNAME:EST
DTSTART:20241103T020000
TZOFFSETFROM:-0400
TZOFFSETTO:-0500
RDATE:20251102T020000
RDATE:20261101T020000
END:STANDARD
BEGIN:DAYLIGHT
TZNAME:EDT
DTSTART:20250309T020000
TZOFFSETFROM:-0500
TZOFFSETTO:-0400
RDATE:20260308T020000
END:DAYLIGHT
END:VTIMEZONE
BEGIN:VEVENT
UID:0b594022-fc81-49bc-b00f-930e7934b19d
DTSTAMP:20260425T105156Z
DESCRIPTION:Join us for this special event to celebrate Juneteenth at RSS w
 ith Cheryl Warfield. \n\nSponsored by NYC Cultural Affairs
DTSTART;TZID=America/New_York:20250612T131500
DTEND;TZID=America/New_York:20250612T141500
LOCATION:2600 Netherland Avenue\, new york\, NY 10463 US
SUMMARY:Juneteenth Celebration: Lift Every Voice and Sing! (Hybrid)
END:VEVENT
END:VCALENDAR
