BEGIN:VCALENDAR
VERSION:2.0
PRODID:-//rssny.org//NONSGML kigkonsult.se iCalcreator 2.30.10//
CALSCALE:GREGORIAN
METHOD:PUBLISH
UID:14742338-e646-46f3-a1c2-f39be7a1e53e
X-WR-CALDESC:This class is in the center.\n\nLevel: Beginner\n\nThe session
  is led by Tabitha Rosa\, the RSS Tech Specialist and Digital Engagement C
 oordinator.
X-WR-RELCALID:07df4cccb72b7548ebc0bd371068bcad
X-WR-TIMEZONE:America/New_York
BEGIN:VTIMEZONE
TZID:America/New_York
BEGIN:STANDARD
TZNAME:EST
DTSTART:20241103T020000
TZOFFSETFROM:-0400
TZOFFSETTO:-0500
RDATE:20251102T020000
RDATE:20261101T020000
END:STANDARD
BEGIN:DAYLIGHT
TZNAME:EDT
DTSTART:20250309T020000
TZOFFSETFROM:-0500
TZOFFSETTO:-0400
RDATE:20260308T020000
END:DAYLIGHT
END:VTIMEZONE
BEGIN:VEVENT
UID:d42dd87f-27b5-422d-b659-0a95b79272d1
DTSTAMP:20260425T104500Z
DESCRIPTION:This class is in the center.\n\nLevel: Beginner\n\nThe session 
 is led by Tabitha Rosa\, the RSS Tech Specialist and Digital Engagement Co
 ordinator.
DTSTART;TZID=America/New_York:20250610T110000
DTEND;TZID=America/New_York:20250610T120000
LOCATION:
SUMMARY:Tech How-to's: Mastering Messaging Apps  (IN CENTER)
END:VEVENT
END:VCALENDAR
