BEGIN:VCALENDAR
VERSION:2.0
PRODID:-//rssny.org//NONSGML kigkonsult.se iCalcreator 2.30.10//
CALSCALE:GREGORIAN
METHOD:PUBLISH
UID:de85c612-2d16-4e72-ae6f-f41f75e9c376
X-WR-CALDESC:
X-WR-RELCALID:026abebfc98f8254b3a71d560cfedaae
X-WR-TIMEZONE:America/New_York
BEGIN:VTIMEZONE
TZID:America/New_York
BEGIN:STANDARD
TZNAME:EST
DTSTART:20241103T020000
TZOFFSETFROM:-0400
TZOFFSETTO:-0500
RDATE:20251102T020000
RDATE:20261101T020000
END:STANDARD
BEGIN:DAYLIGHT
TZNAME:EDT
DTSTART:20250309T020000
TZOFFSETFROM:-0500
TZOFFSETTO:-0400
RDATE:20260308T020000
END:DAYLIGHT
END:VTIMEZONE
BEGIN:VEVENT
UID:8e205d12-9e39-4f9a-a0f5-125c74642d0b
DTSTAMP:20260425T105635Z
DESCRIPTION:
DTSTART;TZID=America/New_York:20250604T130000
DTEND;TZID=America/New_York:20250604T150000
LOCATION:
SUMMARY:Movies In Center: Ocean's eleven
END:VEVENT
END:VCALENDAR
