BEGIN:VCALENDAR
VERSION:2.0
PRODID:-//rssny.org//NONSGML kigkonsult.se iCalcreator 2.30.10//
CALSCALE:GREGORIAN
METHOD:PUBLISH
UID:7f144913-fe85-475c-96f8-01a1b2f48d2a
X-WR-CALDESC:Join us on the RSS Terrace Garden where you will help plant he
 rbs and vegetables to share with the members. Help to create a beneficial 
 native plant garden that will beautify the neighborhood.
X-WR-RELCALID:e54dc13facec9d151476c663613329c5
X-WR-TIMEZONE:America/New_York
BEGIN:VTIMEZONE
TZID:America/New_York
BEGIN:STANDARD
TZNAME:EST
DTSTART:20241103T020000
TZOFFSETFROM:-0400
TZOFFSETTO:-0500
RDATE:20251102T020000
RDATE:20261101T020000
END:STANDARD
BEGIN:DAYLIGHT
TZNAME:EDT
DTSTART:20250309T020000
TZOFFSETFROM:-0500
TZOFFSETTO:-0400
RDATE:20260308T020000
END:DAYLIGHT
END:VTIMEZONE
BEGIN:VEVENT
UID:d0660520-6211-47e4-8d6b-f8b51c9e12b5
DTSTAMP:20260425T122232Z
DESCRIPTION:Join us on the RSS Terrace Garden where you will help plant her
 bs and vegetables to share with the members. Help to create a beneficial n
 ative plant garden that will beautify the neighborhood.
DTSTART;TZID=America/New_York:20250530T150000
DTEND;TZID=America/New_York:20250530T160000
LOCATION:
SUMMARY:Gardening Group (In Center)
END:VEVENT
END:VCALENDAR
