BEGIN:VCALENDAR
VERSION:2.0
PRODID:-//rssny.org//NONSGML kigkonsult.se iCalcreator 2.30.10//
CALSCALE:GREGORIAN
METHOD:PUBLISH
UID:1a48c55b-e88e-42f6-af75-44aee9988274
X-WR-CALDESC:Join us for a dinner and celebration of the diverse cultures o
 f the Asian American and Pacific Islander community.
X-WR-RELCALID:0a843e4dc10b39b2a685e1ec80b80639
X-WR-TIMEZONE:America/New_York
BEGIN:VTIMEZONE
TZID:America/New_York
BEGIN:STANDARD
TZNAME:EST
DTSTART:20241103T020000
TZOFFSETFROM:-0400
TZOFFSETTO:-0500
RDATE:20251102T020000
RDATE:20261101T020000
END:STANDARD
BEGIN:DAYLIGHT
TZNAME:EDT
DTSTART:20250309T020000
TZOFFSETFROM:-0500
TZOFFSETTO:-0400
RDATE:20260308T020000
END:DAYLIGHT
END:VTIMEZONE
BEGIN:VEVENT
UID:4655701c-bf58-437a-9578-83e5637cd46c
DTSTAMP:20260425T122647Z
DESCRIPTION:Join us for a dinner and celebration of the diverse cultures of
  the Asian American and Pacific Islander community.
DTSTART;TZID=America/New_York:20250529T170000
DTEND;TZID=America/New_York:20250529T190000
LOCATION:
SUMMARY:Dinner In Celebration of Asian American and Pacific Islander Herita
 ge Month (In Center)
END:VEVENT
END:VCALENDAR
