BEGIN:VCALENDAR
VERSION:2.0
PRODID:-//rssny.org//NONSGML kigkonsult.se iCalcreator 2.30.10//
CALSCALE:GREGORIAN
METHOD:PUBLISH
UID:16433358-8a76-4d2e-9d8f-8cf796e44114
X-WR-CALDESC:
X-WR-RELCALID:111ef0d4a54fc2f386d6f3e9de3bcd06
X-WR-TIMEZONE:America/New_York
BEGIN:VTIMEZONE
TZID:America/New_York
BEGIN:STANDARD
TZNAME:EST
DTSTART:20241103T020000
TZOFFSETFROM:-0400
TZOFFSETTO:-0500
RDATE:20251102T020000
RDATE:20261101T020000
END:STANDARD
BEGIN:DAYLIGHT
TZNAME:EDT
DTSTART:20250309T020000
TZOFFSETFROM:-0500
TZOFFSETTO:-0400
RDATE:20260308T020000
END:DAYLIGHT
END:VTIMEZONE
BEGIN:VEVENT
UID:33fa7e6b-e197-4263-a19b-523869c760c9
DTSTAMP:20260425T122029Z
DESCRIPTION:
DTSTART;TZID=America/New_York:20250526T060000
DTEND;TZID=America/New_York:20250526T060001
LOCATION:
SUMMARY:Memorial Day - The Center is Closed
END:VEVENT
END:VCALENDAR
