BEGIN:VCALENDAR
VERSION:2.0
PRODID:-//rssny.org//NONSGML kigkonsult.se iCalcreator 2.30.10//
CALSCALE:GREGORIAN
METHOD:PUBLISH
UID:575f6614-e4e0-40a0-ba25-0f695fa4d524
X-WR-CALDESC:
X-WR-RELCALID:2a39a2855e006583db44347353acc406
X-WR-TIMEZONE:America/New_York
BEGIN:VTIMEZONE
TZID:America/New_York
BEGIN:STANDARD
TZNAME:EST
DTSTART:20241103T020000
TZOFFSETFROM:-0400
TZOFFSETTO:-0500
RDATE:20251102T020000
RDATE:20261101T020000
END:STANDARD
BEGIN:DAYLIGHT
TZNAME:EDT
DTSTART:20250309T020000
TZOFFSETFROM:-0500
TZOFFSETTO:-0400
RDATE:20260308T020000
END:DAYLIGHT
END:VTIMEZONE
BEGIN:VEVENT
UID:d1588a89-d987-4735-88c2-10028068154b
DTSTAMP:20260425T122530Z
DESCRIPTION:
DTSTART;TZID=America/New_York:20250523T120000
DTEND;TZID=America/New_York:20250523T130000
LOCATION:
SUMMARY:Lunch In Center: Birthday Party with DJ
END:VEVENT
END:VCALENDAR
