BEGIN:VCALENDAR
VERSION:2.0
PRODID:-//rssny.org//NONSGML kigkonsult.se iCalcreator 2.30.10//
CALSCALE:GREGORIAN
METHOD:PUBLISH
UID:a845ced7-2e93-4231-a087-fa9aac25c16b
X-WR-CALDESC:Learn to speak English confidently in a fun and supportive env
 ironment. Our classes are designed for people of all levels\, and we focus
  on everyday conversation topics.
X-WR-RELCALID:f2effcb2e2ee4e067e8feffbc4706510
X-WR-TIMEZONE:America/New_York
BEGIN:VTIMEZONE
TZID:America/New_York
BEGIN:STANDARD
TZNAME:EST
DTSTART:20241103T020000
TZOFFSETFROM:-0400
TZOFFSETTO:-0500
RDATE:20251102T020000
RDATE:20261101T020000
END:STANDARD
BEGIN:DAYLIGHT
TZNAME:EDT
DTSTART:20250309T020000
TZOFFSETFROM:-0500
TZOFFSETTO:-0400
RDATE:20260308T020000
END:DAYLIGHT
END:VTIMEZONE
BEGIN:VEVENT
UID:166d9e83-52fa-4920-8e5d-098863bb59fc
DTSTAMP:20260425T122329Z
DESCRIPTION:Learn to speak English confidently in a fun and supportive envi
 ronment. Our classes are designed for people of all levels\, and we focus 
 on everyday conversation topics.
DTSTART;TZID=America/New_York:20250522T093000
DTEND;TZID=America/New_York:20250522T103000
LOCATION:
SUMMARY:Conversational English (In Center)
END:VEVENT
END:VCALENDAR
