BEGIN:VCALENDAR
VERSION:2.0
PRODID:-//rssny.org//NONSGML kigkonsult.se iCalcreator 2.30.10//
CALSCALE:GREGORIAN
METHOD:PUBLISH
UID:7aeb187d-c721-434e-be51-18e178562a11
X-WR-CALDESC:Enjoy calming\, gentle tones while diving into some arts and c
 rafts in the Wellness through Windchimes Workshop! Learn about a new metho
 d of sound therapy and relaxation while exploring your creative nature. Co
 me create your own personal windchime and discover the healing properties 
 of a simple decoration that can turn any space into a sanctuary. \n\nFacil
 itator: Aleyah Cabra\, Social Work Intern
X-WR-RELCALID:af3bbc08d23069ff7a56bfd3139f72b3
X-WR-TIMEZONE:America/New_York
BEGIN:VTIMEZONE
TZID:America/New_York
BEGIN:STANDARD
TZNAME:EST
DTSTART:20241103T020000
TZOFFSETFROM:-0400
TZOFFSETTO:-0500
RDATE:20251102T020000
RDATE:20261101T020000
END:STANDARD
BEGIN:DAYLIGHT
TZNAME:EDT
DTSTART:20250309T020000
TZOFFSETFROM:-0500
TZOFFSETTO:-0400
RDATE:20260308T020000
END:DAYLIGHT
END:VTIMEZONE
BEGIN:VEVENT
UID:a32bcece-54bc-4c63-9de5-a56ade999015
DTSTAMP:20260425T122232Z
DESCRIPTION:Enjoy calming\, gentle tones while diving into some arts and cr
 afts in the Wellness through Windchimes Workshop! Learn about a new method
  of sound therapy and relaxation while exploring your creative nature. Com
 e create your own personal windchime and discover the healing properties o
 f a simple decoration that can turn any space into a sanctuary. \n\nFacili
 tator: Aleyah Cabra\, Social Work Intern
DTSTART;TZID=America/New_York:20250515T130000
DTEND;TZID=America/New_York:20250515T143000
LOCATION:
SUMMARY:Wellness through Windchimes with Aleyah Cabra (In Person)
END:VEVENT
END:VCALENDAR
