BEGIN:VCALENDAR
VERSION:2.0
PRODID:-//rssny.org//NONSGML kigkonsult.se iCalcreator 2.30.10//
CALSCALE:GREGORIAN
METHOD:PUBLISH
UID:4ee47747-fe17-472e-8b1b-6da9f7fd46c2
X-WR-CALDESC:Join us for a spectacular Fashion & Talent Show at the center!
  Be entertained by talented community members showcasing their skills in m
 usic\, readings\, dance\, and stunning fashion presentations. Plus\, there
  will be snacks...
X-WR-RELCALID:89523345fd8fd662fb159a553cd1ee59
X-WR-TIMEZONE:America/New_York
BEGIN:VTIMEZONE
TZID:America/New_York
BEGIN:STANDARD
TZNAME:EST
DTSTART:20241103T020000
TZOFFSETFROM:-0400
TZOFFSETTO:-0500
RDATE:20251102T020000
RDATE:20261101T020000
END:STANDARD
BEGIN:DAYLIGHT
TZNAME:EDT
DTSTART:20250309T020000
TZOFFSETFROM:-0500
TZOFFSETTO:-0400
RDATE:20260308T020000
END:DAYLIGHT
END:VTIMEZONE
BEGIN:VEVENT
UID:21328ef2-7b43-468c-b7ae-e7602471a1b3
DTSTAMP:20260425T121918Z
DESCRIPTION:Join us for a spectacular Fashion & Talent Show at the center! 
 Be entertained by talented community members showcasing their skills in mu
 sic\, readings\, dance\, and stunning fashion presentations. Plus\, there 
 will be snacks...
DTSTART;TZID=America/New_York:20250509T130000
DTEND;TZID=America/New_York:20250509T140000
LOCATION:
SUMMARY:RSS Talent Show (In Center)
END:VEVENT
END:VCALENDAR
