BEGIN:VCALENDAR
VERSION:2.0
PRODID:-//rssny.org//NONSGML kigkonsult.se iCalcreator 2.30.10//
CALSCALE:GREGORIAN
METHOD:PUBLISH
UID:69c5945e-5473-4c33-a6b9-8053806f1cbb
X-WR-CALDESC:Join us for a special Mother's Day concert with the talented m
 usicians from Concerts in Motion.\n\nLearn more about Concerts in Motion: 
 https://www.concertsinmotion.org/
X-WR-RELCALID:3419c6da5f641e323c8b4515190ac8da
X-WR-TIMEZONE:America/New_York
BEGIN:VTIMEZONE
TZID:America/New_York
BEGIN:STANDARD
TZNAME:EST
DTSTART:20241103T020000
TZOFFSETFROM:-0400
TZOFFSETTO:-0500
RDATE:20251102T020000
RDATE:20261101T020000
END:STANDARD
BEGIN:DAYLIGHT
TZNAME:EDT
DTSTART:20250309T020000
TZOFFSETFROM:-0500
TZOFFSETTO:-0400
RDATE:20260308T020000
END:DAYLIGHT
END:VTIMEZONE
BEGIN:VEVENT
UID:866e0957-8e04-42e8-aaf8-dd5574390fdd
DTSTAMP:20260425T122616Z
DESCRIPTION:Join us for a special Mother's Day concert with the talented mu
 sicians from Concerts in Motion.\n\nLearn more about Concerts in Motion: h
 ttps://www.concertsinmotion.org/
DTSTART;TZID=America/New_York:20250507T131500
DTEND;TZID=America/New_York:20250507T141500
LOCATION:
SUMMARY:Mother's Day Concert with Concerts in Motion (Hybrid)
END:VEVENT
END:VCALENDAR
