BEGIN:VCALENDAR
VERSION:2.0
PRODID:-//rssny.org//NONSGML kigkonsult.se iCalcreator 2.30.10//
CALSCALE:GREGORIAN
METHOD:PUBLISH
UID:9dd12859-2566-441b-8398-fd282caec7ee
X-WR-CALDESC:Join us for breakfast at the Center!
X-WR-RELCALID:0c0263ba0e4c44b651090f96c687fa99
X-WR-TIMEZONE:America/New_York
BEGIN:VTIMEZONE
TZID:America/New_York
BEGIN:STANDARD
TZNAME:EST
DTSTART:20241103T020000
TZOFFSETFROM:-0400
TZOFFSETTO:-0500
RDATE:20251102T020000
RDATE:20261101T020000
END:STANDARD
BEGIN:DAYLIGHT
TZNAME:EDT
DTSTART:20250309T020000
TZOFFSETFROM:-0500
TZOFFSETTO:-0400
RDATE:20260308T020000
END:DAYLIGHT
END:VTIMEZONE
BEGIN:VEVENT
UID:836ef8ef-02f8-4962-a012-418ba4f1505d
DTSTAMP:20260425T122328Z
DESCRIPTION:Join us for breakfast at the Center!
DTSTART;TZID=America/New_York:20250507T090000
DTEND;TZID=America/New_York:20250507T100000
LOCATION:
SUMMARY:Breakfast Club (In Center)
END:VEVENT
END:VCALENDAR
