BEGIN:VCALENDAR
VERSION:2.0
PRODID:-//rssny.org//NONSGML kigkonsult.se iCalcreator 2.30.10//
CALSCALE:GREGORIAN
METHOD:PUBLISH
UID:bd7ad1a3-fd09-42be-94e5-022b3969d880
X-WR-CALDESC:Join us on the RSS Terrace Garden where you will help plant he
 rbs and vegetables to share with the members. Help to create a beneficial 
 native plant garden that will beautify the neighborhood.
X-WR-RELCALID:ffe4817034d5d6011463849ce1540cf5
X-WR-TIMEZONE:America/New_York
BEGIN:VTIMEZONE
TZID:America/New_York
BEGIN:STANDARD
TZNAME:EST
DTSTART:20241103T020000
TZOFFSETFROM:-0400
TZOFFSETTO:-0500
RDATE:20251102T020000
RDATE:20261101T020000
END:STANDARD
BEGIN:DAYLIGHT
TZNAME:EDT
DTSTART:20250309T020000
TZOFFSETFROM:-0500
TZOFFSETTO:-0400
RDATE:20260308T020000
END:DAYLIGHT
END:VTIMEZONE
BEGIN:VEVENT
UID:4c899128-14db-48da-bc82-964f38f9b75f
DTSTAMP:20260425T121835Z
DESCRIPTION:Join us on the RSS Terrace Garden where you will help plant her
 bs and vegetables to share with the members. Help to create a beneficial n
 ative plant garden that will beautify the neighborhood.
DTSTART;TZID=America/New_York:20250502T150000
DTEND;TZID=America/New_York:20250502T160000
LOCATION:
SUMMARY:Gardening Group
END:VEVENT
END:VCALENDAR
