BEGIN:VCALENDAR
VERSION:2.0
PRODID:-//rssny.org//NONSGML kigkonsult.se iCalcreator 2.30.10//
CALSCALE:GREGORIAN
METHOD:PUBLISH
UID:df494c28-5604-4061-9119-313f6ca883ad
X-WR-CALDESC:Weekly non-competitive bridge game
X-WR-RELCALID:2a09b3d54b9f9a905dc698ea354418e8
X-WR-TIMEZONE:America/New_York
BEGIN:VTIMEZONE
TZID:America/New_York
BEGIN:STANDARD
TZNAME:EST
DTSTART:20241103T020000
TZOFFSETFROM:-0400
TZOFFSETTO:-0500
RDATE:20251102T020000
RDATE:20261101T020000
END:STANDARD
BEGIN:DAYLIGHT
TZNAME:EDT
DTSTART:20250309T020000
TZOFFSETFROM:-0500
TZOFFSETTO:-0400
RDATE:20260308T020000
END:DAYLIGHT
END:VTIMEZONE
BEGIN:VEVENT
UID:cc75238d-21e3-4b93-840f-900c41f1d712
DTSTAMP:20260425T122336Z
DESCRIPTION:Weekly non-competitive bridge game
DTSTART;TZID=America/New_York:20250502T140000
DTEND;TZID=America/New_York:20250502T163000
LOCATION:
SUMMARY:Leisure Games Bridge (In Center)
END:VEVENT
END:VCALENDAR
