BEGIN:VCALENDAR
VERSION:2.0
PRODID:-//rssny.org//NONSGML kigkonsult.se iCalcreator 2.30.10//
CALSCALE:GREGORIAN
METHOD:PUBLISH
UID:5f26aab3-d44f-4628-947b-5602bdcebd38
X-WR-CALDESC:To register: https://airtable.com/appXGCAC8Qle5hwrm/shrO59MUIS
 ZyYYJ7D
X-WR-RELCALID:7bc0f419491d69ba6a61602d3c197b5d
X-WR-TIMEZONE:America/New_York
BEGIN:VTIMEZONE
TZID:America/New_York
BEGIN:STANDARD
TZNAME:EST
DTSTART:20261101T020000
TZOFFSETFROM:-0400
TZOFFSETTO:-0500
RDATE:20271107T020000
END:STANDARD
BEGIN:DAYLIGHT
TZNAME:EDT
DTSTART:20260308T020000
TZOFFSETFROM:-0500
TZOFFSETTO:-0400
RDATE:20270314T020000
RDATE:20280312T020000
END:DAYLIGHT
END:VTIMEZONE
BEGIN:VEVENT
UID:75148541-b82f-4fe2-9110-7272f3ebd2ef
DTSTAMP:20260425T103322Z
DESCRIPTION:To register: https://airtable.com/appXGCAC8Qle5hwrm/shrO59MUISZ
 yYYJ7D
DTSTART;TZID=America/New_York:20270215T120000
DTEND;TZID=America/New_York:20270215T130000
LOCATION:https://airtable.com/appXGCAC8Qle5hwrm/shrO59MUISZyYYJ7D
SUMMARY:Concerts in Motion: Meditative Mondays (This is not an RSS event)
END:VEVENT
END:VCALENDAR
