BEGIN:VCALENDAR
VERSION:2.0
PRODID:-//rssny.org//NONSGML kigkonsult.se iCalcreator 2.30.10//
CALSCALE:GREGORIAN
METHOD:PUBLISH
UID:57ae3fc6-797a-4694-a44d-343c1aed126d
X-WR-CALDESC:TO REGISTER: https://rssny.org/trivia.html   Register ONE TIME
  ONLY\n\n\nCome and enjoy trivia and brain games with Maritza.\n\nNOTES:\n
 *  This class is weekly. We will let you know if it is not happening.\n* Y
 ou only need to register ONCE for this class. You will be sent links weekl
 y.\n*  You MUST register for the class. Please do not forward the link.
X-WR-RELCALID:bcb8b5c6dd4d91533511b144459d05be
X-WR-TIMEZONE:America/New_York
BEGIN:VTIMEZONE
TZID:America/New_York
BEGIN:STANDARD
TZNAME:EST
DTSTART:20251102T020000
TZOFFSETFROM:-0400
TZOFFSETTO:-0500
RDATE:20261101T020000
RDATE:20271107T020000
END:STANDARD
BEGIN:DAYLIGHT
TZNAME:EDT
DTSTART:20260308T020000
TZOFFSETFROM:-0500
TZOFFSETTO:-0400
RDATE:20270314T020000
RDATE:20280312T020000
END:DAYLIGHT
END:VTIMEZONE
BEGIN:VEVENT
UID:19a0d3e4-a8a0-408d-8a30-b8bc61c5fa53
DTSTAMP:20260425T034811Z
DESCRIPTION:TO REGISTER: https://rssny.org/trivia.html   Register ONE TIME 
 ONLY\n\n\nCome and enjoy trivia and brain games with Maritza.\n\nNOTES:\n*
   This class is weekly. We will let you know if it is not happening.\n* Yo
 u only need to register ONCE for this class. You will be sent links weekly
 .\n*  You MUST register for the class. Please do not forward the link.
DTSTART;TZID=America/New_York:20261027T110000
DTEND;TZID=America/New_York:20261027T120000
LOCATION:https://rssny.org/trivia.html
SUMMARY:Brain Boosters with Maritza (HYBRID) - Instructor in Center
END:VEVENT
END:VCALENDAR
