BEGIN:VCALENDAR
VERSION:2.0
PRODID:-//rssny.org//NONSGML kigkonsult.se iCalcreator 2.30.10//
CALSCALE:GREGORIAN
METHOD:PUBLISH
UID:28123b98-1755-406c-9f7b-53495870712a
X-WR-CALDESC:Join us for breakfast at the Center!
X-WR-RELCALID:b2f9f8bafba1d311f0666066d2a61e5b
X-WR-TIMEZONE:America/New_York
BEGIN:VTIMEZONE
TZID:America/New_York
BEGIN:STANDARD
TZNAME:EST
DTSTART:20251102T020000
TZOFFSETFROM:-0400
TZOFFSETTO:-0500
RDATE:20261101T020000
RDATE:20271107T020000
END:STANDARD
BEGIN:DAYLIGHT
TZNAME:EDT
DTSTART:20260308T020000
TZOFFSETFROM:-0500
TZOFFSETTO:-0400
RDATE:20270314T020000
RDATE:20280312T020000
END:DAYLIGHT
END:VTIMEZONE
BEGIN:VEVENT
UID:db4569be-f8aa-41f8-94a8-61a7d6a98960
DTSTAMP:20260425T034935Z
DESCRIPTION:Join us for breakfast at the Center!
DTSTART;TZID=America/New_York:20261026T090000
DTEND;TZID=America/New_York:20261026T100000
LOCATION:
SUMMARY:Breakfast Club (In Center)
END:VEVENT
END:VCALENDAR
