BEGIN:VCALENDAR
VERSION:2.0
PRODID:-//rssny.org//NONSGML kigkonsult.se iCalcreator 2.30.10//
CALSCALE:GREGORIAN
METHOD:PUBLISH
UID:096c178f-696e-4725-87b4-4a5dc33e24a6
X-WR-CALDESC:Come and start your morning with Chair yoga and meditation.
X-WR-RELCALID:5f04e7758c3f7a11e8008196a5226d8b
X-WR-TIMEZONE:America/New_York
BEGIN:VTIMEZONE
TZID:America/New_York
BEGIN:STANDARD
TZNAME:EST
DTSTART:20251102T020000
TZOFFSETFROM:-0400
TZOFFSETTO:-0500
RDATE:20261101T020000
RDATE:20271107T020000
END:STANDARD
BEGIN:DAYLIGHT
TZNAME:EDT
DTSTART:20260308T020000
TZOFFSETFROM:-0500
TZOFFSETTO:-0400
RDATE:20270314T020000
RDATE:20280312T020000
END:DAYLIGHT
END:VTIMEZONE
BEGIN:VEVENT
UID:e9d87efb-0306-4b7c-a6b9-34a35f8ad3b1
DTSTAMP:20260425T035436Z
DESCRIPTION:Come and start your morning with Chair yoga and meditation.
DTSTART;TZID=America/New_York:20261022T094500
DTEND;TZID=America/New_York:20261022T104500
LOCATION:
SUMMARY:Chair Yoga with Anita: Strengthen and Balance (In Center)
END:VEVENT
END:VCALENDAR
