BEGIN:VCALENDAR
VERSION:2.0
PRODID:-//rssny.org//NONSGML kigkonsult.se iCalcreator 2.30.10//
CALSCALE:GREGORIAN
METHOD:PUBLISH
UID:563e1ffc-55c5-48d2-9088-301f3b7400b9
X-WR-CALDESC:To register: https://airtable.com/appXGCAC8Qle5hwrm/shrO59MUIS
 ZyYYJ7D
X-WR-RELCALID:1bc7dac1524036231cebd6176431c762
X-WR-TIMEZONE:America/New_York
BEGIN:VTIMEZONE
TZID:America/New_York
BEGIN:STANDARD
TZNAME:EST
DTSTART:20251102T020000
TZOFFSETFROM:-0400
TZOFFSETTO:-0500
RDATE:20261101T020000
RDATE:20271107T020000
END:STANDARD
BEGIN:DAYLIGHT
TZNAME:EDT
DTSTART:20260308T020000
TZOFFSETFROM:-0500
TZOFFSETTO:-0400
RDATE:20270314T020000
RDATE:20280312T020000
END:DAYLIGHT
END:VTIMEZONE
BEGIN:VEVENT
UID:90e79eb8-e6a4-46dd-b13b-ff298cbd69a8
DTSTAMP:20260425T035702Z
DESCRIPTION:To register: https://airtable.com/appXGCAC8Qle5hwrm/shrO59MUISZ
 yYYJ7D
DTSTART;TZID=America/New_York:20261014T130000
DTEND;TZID=America/New_York:20261014T140000
LOCATION:https://airtable.com/appXGCAC8Qle5hwrm/shrO59MUISZyYYJ7D
SUMMARY:Concerts in Motion: Chinese (This is not an RSS event)
END:VEVENT
END:VCALENDAR
