BEGIN:VCALENDAR
VERSION:2.0
PRODID:-//rssny.org//NONSGML kigkonsult.se iCalcreator 2.30.10//
CALSCALE:GREGORIAN
METHOD:PUBLISH
UID:d6e005bf-8197-4c8b-a173-f23ef248e054
X-WR-CALDESC:To register: https://rssny.org/class-forms/chair-yoga-with-ani
 ta.html
X-WR-RELCALID:64d48ebc1b148a5a012b0fd26b16a849
X-WR-TIMEZONE:America/New_York
BEGIN:VTIMEZONE
TZID:America/New_York
BEGIN:STANDARD
TZNAME:EST
DTSTART:20251102T020000
TZOFFSETFROM:-0400
TZOFFSETTO:-0500
RDATE:20261101T020000
RDATE:20271107T020000
END:STANDARD
BEGIN:DAYLIGHT
TZNAME:EDT
DTSTART:20260308T020000
TZOFFSETFROM:-0500
TZOFFSETTO:-0400
RDATE:20270314T020000
RDATE:20280312T020000
END:DAYLIGHT
END:VTIMEZONE
BEGIN:VEVENT
UID:6acd0cf3-ae21-4a6d-95fa-74752c33452d
DTSTAMP:20260425T035355Z
DESCRIPTION:To register: https://rssny.org/class-forms/chair-yoga-with-anit
 a.html
DTSTART;TZID=America/New_York:20261008T090000
DTEND;TZID=America/New_York:20261008T094500
LOCATION:https://rssny.org/class-forms/chair-yoga-with-anita.html
SUMMARY:Chair Yoga with Anita: Strengthen and Balance (Online)
END:VEVENT
END:VCALENDAR
