BEGIN:VCALENDAR
VERSION:2.0
PRODID:-//rssny.org//NONSGML kigkonsult.se iCalcreator 2.30.10//
CALSCALE:GREGORIAN
METHOD:PUBLISH
UID:3b5e320a-0140-4626-8eb0-0532d08551d7
X-WR-CALDESC:This class is in the center.\n\nLevel: Beginner
X-WR-RELCALID:3e28f15b9a03ede663ec28d3a575a5bf
X-WR-TIMEZONE:America/New_York
BEGIN:VTIMEZONE
TZID:America/New_York
BEGIN:STANDARD
TZNAME:EST
DTSTART:20251102T020000
TZOFFSETFROM:-0400
TZOFFSETTO:-0500
RDATE:20261101T020000
RDATE:20271107T020000
END:STANDARD
BEGIN:DAYLIGHT
TZNAME:EDT
DTSTART:20260308T020000
TZOFFSETFROM:-0500
TZOFFSETTO:-0400
RDATE:20270314T020000
RDATE:20280312T020000
END:DAYLIGHT
END:VTIMEZONE
BEGIN:VEVENT
UID:9a6f79b8-f064-4313-a014-97e74b571687
DTSTAMP:20260425T035648Z
DESCRIPTION:This class is in the center.\n\nLevel: Beginner
DTSTART;TZID=America/New_York:20261006T130000
DTEND;TZID=America/New_York:20261006T140000
LOCATION:
SUMMARY:Technology Group Training with Caroline (IN CENTER)
END:VEVENT
END:VCALENDAR
