BEGIN:VCALENDAR
VERSION:2.0
PRODID:-//rssny.org//NONSGML kigkonsult.se iCalcreator 2.30.10//
CALSCALE:GREGORIAN
METHOD:PUBLISH
UID:16dfd9e1-11e3-42ad-9dd5-931b7eca058f
X-WR-CALDESC:Come and start your morning with Chair yoga and meditation.
X-WR-RELCALID:d56f75f9af4cfb996ab5660e4b579622
X-WR-TIMEZONE:America/New_York
BEGIN:VTIMEZONE
TZID:America/New_York
BEGIN:STANDARD
TZNAME:EST
DTSTART:20251102T020000
TZOFFSETFROM:-0400
TZOFFSETTO:-0500
RDATE:20261101T020000
RDATE:20271107T020000
END:STANDARD
BEGIN:DAYLIGHT
TZNAME:EDT
DTSTART:20260308T020000
TZOFFSETFROM:-0500
TZOFFSETTO:-0400
RDATE:20270314T020000
RDATE:20280312T020000
END:DAYLIGHT
END:VTIMEZONE
BEGIN:VEVENT
UID:e14a0bdd-564a-436b-9ff8-19eb46a2572e
DTSTAMP:20260425T035432Z
DESCRIPTION:Come and start your morning with Chair yoga and meditation.
DTSTART;TZID=America/New_York:20261001T094500
DTEND;TZID=America/New_York:20261001T104500
LOCATION:
SUMMARY:Chair Yoga with Anita: Strengthen and Balance (In Center)
END:VEVENT
END:VCALENDAR
