BEGIN:VCALENDAR
VERSION:2.0
PRODID:-//rssny.org//NONSGML kigkonsult.se iCalcreator 2.30.10//
CALSCALE:GREGORIAN
METHOD:PUBLISH
UID:ad49a695-6bc9-4aa9-9b45-2cdd2f9f5e8f
X-WR-CALDESC:Join us for breakfast at the Center!
X-WR-RELCALID:ad206d652ba4c8232a95dd35b95e1305
X-WR-TIMEZONE:America/New_York
BEGIN:VTIMEZONE
TZID:America/New_York
BEGIN:STANDARD
TZNAME:EST
DTSTART:20251102T020000
TZOFFSETFROM:-0400
TZOFFSETTO:-0500
RDATE:20261101T020000
RDATE:20271107T020000
END:STANDARD
BEGIN:DAYLIGHT
TZNAME:EDT
DTSTART:20260308T020000
TZOFFSETFROM:-0500
TZOFFSETTO:-0400
RDATE:20270314T020000
RDATE:20280312T020000
END:DAYLIGHT
END:VTIMEZONE
BEGIN:VEVENT
UID:79593b7e-c1da-461b-9c5a-ae0e84c4789d
DTSTAMP:20260425T021545Z
DESCRIPTION:Join us for breakfast at the Center!
DTSTART;TZID=America/New_York:20260925T090000
DTEND;TZID=America/New_York:20260925T100000
LOCATION:
SUMMARY:Breakfast Club (In Center)
END:VEVENT
END:VCALENDAR
