BEGIN:VCALENDAR
VERSION:2.0
PRODID:-//rssny.org//NONSGML kigkonsult.se iCalcreator 2.30.10//
CALSCALE:GREGORIAN
METHOD:PUBLISH
UID:e7702126-0426-42e3-843b-a4850a57fa0c
X-WR-CALDESC:Join us for breakfast at the Center!
X-WR-RELCALID:36a57bb42e67a47e3b0b28b736c52c1f
X-WR-TIMEZONE:America/New_York
BEGIN:VTIMEZONE
TZID:America/New_York
BEGIN:STANDARD
TZNAME:EST
DTSTART:20251102T020000
TZOFFSETFROM:-0400
TZOFFSETTO:-0500
RDATE:20261101T020000
RDATE:20271107T020000
END:STANDARD
BEGIN:DAYLIGHT
TZNAME:EDT
DTSTART:20260308T020000
TZOFFSETFROM:-0500
TZOFFSETTO:-0400
RDATE:20270314T020000
RDATE:20280312T020000
END:DAYLIGHT
END:VTIMEZONE
BEGIN:VEVENT
UID:bc158faf-d769-4cc3-b61c-d4ca72208250
DTSTAMP:20260425T021545Z
DESCRIPTION:Join us for breakfast at the Center!
DTSTART;TZID=America/New_York:20260918T090000
DTEND;TZID=America/New_York:20260918T100000
LOCATION:
SUMMARY:Breakfast Club (In Center)
END:VEVENT
END:VCALENDAR
