BEGIN:VCALENDAR
VERSION:2.0
PRODID:-//rssny.org//NONSGML kigkonsult.se iCalcreator 2.30.10//
CALSCALE:GREGORIAN
METHOD:PUBLISH
UID:d8da98f7-af3f-401c-b05f-fa92d1848028
X-WR-CALDESC:Come and start your morning with Chair yoga and meditation.
X-WR-RELCALID:9d5a5cee116b994dfe0c98c43392199b
X-WR-TIMEZONE:America/New_York
BEGIN:VTIMEZONE
TZID:America/New_York
BEGIN:STANDARD
TZNAME:EST
DTSTART:20251102T020000
TZOFFSETFROM:-0400
TZOFFSETTO:-0500
RDATE:20261101T020000
RDATE:20271107T020000
END:STANDARD
BEGIN:DAYLIGHT
TZNAME:EDT
DTSTART:20260308T020000
TZOFFSETFROM:-0500
TZOFFSETTO:-0400
RDATE:20270314T020000
RDATE:20280312T020000
END:DAYLIGHT
END:VTIMEZONE
BEGIN:VEVENT
UID:d5f7d37a-5832-4ad1-a65e-2e3d12302fa7
DTSTAMP:20260425T021814Z
DESCRIPTION:Come and start your morning with Chair yoga and meditation.
DTSTART;TZID=America/New_York:20260917T094500
DTEND;TZID=America/New_York:20260917T104500
LOCATION:
SUMMARY:Chair Yoga with Anita: Strengthen and Balance (In Center)
END:VEVENT
END:VCALENDAR
