BEGIN:VCALENDAR
VERSION:2.0
PRODID:-//rssny.org//NONSGML kigkonsult.se iCalcreator 2.30.10//
CALSCALE:GREGORIAN
METHOD:PUBLISH
UID:62de30ab-80db-452a-9b29-22c355c1a227
X-WR-CALDESC:Join us for breakfast at the Center!
X-WR-RELCALID:92b8c9fc228196bdbe2307ab6f74383f
X-WR-TIMEZONE:America/New_York
BEGIN:VTIMEZONE
TZID:America/New_York
BEGIN:STANDARD
TZNAME:EST
DTSTART:20251102T020000
TZOFFSETFROM:-0400
TZOFFSETTO:-0500
RDATE:20261101T020000
RDATE:20271107T020000
END:STANDARD
BEGIN:DAYLIGHT
TZNAME:EDT
DTSTART:20260308T020000
TZOFFSETFROM:-0500
TZOFFSETTO:-0400
RDATE:20270314T020000
RDATE:20280312T020000
END:DAYLIGHT
END:VTIMEZONE
BEGIN:VEVENT
UID:e9720979-4943-4f45-a968-f2d4e96ff56c
DTSTAMP:20260425T021545Z
DESCRIPTION:Join us for breakfast at the Center!
DTSTART;TZID=America/New_York:20260911T090000
DTEND;TZID=America/New_York:20260911T100000
LOCATION:
SUMMARY:Breakfast Club (In Center)
END:VEVENT
END:VCALENDAR
