BEGIN:VCALENDAR
VERSION:2.0
PRODID:-//rssny.org//NONSGML kigkonsult.se iCalcreator 2.30.10//
CALSCALE:GREGORIAN
METHOD:PUBLISH
UID:1d60713d-7c05-4a74-8940-6a9ee264c32e
X-WR-CALDESC:Join us for breakfast at the Center!
X-WR-RELCALID:837d88eea2341436dc9f69eb4cef3395
X-WR-TIMEZONE:America/New_York
BEGIN:VTIMEZONE
TZID:America/New_York
BEGIN:STANDARD
TZNAME:EST
DTSTART:20251102T020000
TZOFFSETFROM:-0400
TZOFFSETTO:-0500
RDATE:20261101T020000
RDATE:20271107T020000
END:STANDARD
BEGIN:DAYLIGHT
TZNAME:EDT
DTSTART:20260308T020000
TZOFFSETFROM:-0500
TZOFFSETTO:-0400
RDATE:20270314T020000
END:DAYLIGHT
END:VTIMEZONE
BEGIN:VEVENT
UID:e63c00bd-4e32-4a20-a5c2-8bb18c75c329
DTSTAMP:20260425T021626Z
DESCRIPTION:Join us for breakfast at the Center!
DTSTART;TZID=America/New_York:20260904T090000
DTEND;TZID=America/New_York:20260904T100000
LOCATION:
SUMMARY:Breakfast Club (In Center)
END:VEVENT
END:VCALENDAR
