BEGIN:VCALENDAR
VERSION:2.0
PRODID:-//rssny.org//NONSGML kigkonsult.se iCalcreator 2.30.10//
CALSCALE:GREGORIAN
METHOD:PUBLISH
UID:de68e4cf-af8b-440f-b410-4a5bd2731406
X-WR-CALDESC:Join us for breakfast at the Center!
X-WR-RELCALID:35f96e58666b766bb7a9b9484136f0ce
X-WR-TIMEZONE:America/New_York
BEGIN:VTIMEZONE
TZID:America/New_York
BEGIN:STANDARD
TZNAME:EST
DTSTART:20251102T020000
TZOFFSETFROM:-0400
TZOFFSETTO:-0500
RDATE:20261101T020000
RDATE:20271107T020000
END:STANDARD
BEGIN:DAYLIGHT
TZNAME:EDT
DTSTART:20260308T020000
TZOFFSETFROM:-0500
TZOFFSETTO:-0400
RDATE:20270314T020000
END:DAYLIGHT
END:VTIMEZONE
BEGIN:VEVENT
UID:a3c22adb-1504-4918-8531-54c3bcc0b74b
DTSTAMP:20260425T004410Z
DESCRIPTION:Join us for breakfast at the Center!
DTSTART;TZID=America/New_York:20260824T090000
DTEND;TZID=America/New_York:20260824T100000
LOCATION:
SUMMARY:Breakfast Club (In Center)
END:VEVENT
END:VCALENDAR
