BEGIN:VCALENDAR
VERSION:2.0
PRODID:-//rssny.org//NONSGML kigkonsult.se iCalcreator 2.30.10//
CALSCALE:GREGORIAN
METHOD:PUBLISH
UID:2f2cf3da-3d06-4ab9-bab4-3c89b794b1c2
X-WR-CALDESC:Join us for breakfast at the Center!
X-WR-RELCALID:d4d07a7f5a6058597fc804d4fce8395e
X-WR-TIMEZONE:America/New_York
BEGIN:VTIMEZONE
TZID:America/New_York
BEGIN:STANDARD
TZNAME:EST
DTSTART:20251102T020000
TZOFFSETFROM:-0400
TZOFFSETTO:-0500
RDATE:20261101T020000
RDATE:20271107T020000
END:STANDARD
BEGIN:DAYLIGHT
TZNAME:EDT
DTSTART:20260308T020000
TZOFFSETFROM:-0500
TZOFFSETTO:-0400
RDATE:20270314T020000
END:DAYLIGHT
END:VTIMEZONE
BEGIN:VEVENT
UID:98cc9427-1e8c-4e8c-bf73-661805e2cf0e
DTSTAMP:20260425T004401Z
DESCRIPTION:Join us for breakfast at the Center!
DTSTART;TZID=America/New_York:20260821T090000
DTEND;TZID=America/New_York:20260821T100000
LOCATION:
SUMMARY:Breakfast Club (In Center)
END:VEVENT
END:VCALENDAR
