BEGIN:VCALENDAR
VERSION:2.0
PRODID:-//rssny.org//NONSGML kigkonsult.se iCalcreator 2.30.10//
CALSCALE:GREGORIAN
METHOD:PUBLISH
UID:67a64361-49da-499b-bbd2-ad41c7fc4579
X-WR-CALDESC:Join us for breakfast at the Center!
X-WR-RELCALID:f2225845abe9cbfc75795596e895dd43
X-WR-TIMEZONE:America/New_York
BEGIN:VTIMEZONE
TZID:America/New_York
BEGIN:STANDARD
TZNAME:EST
DTSTART:20251102T020000
TZOFFSETFROM:-0400
TZOFFSETTO:-0500
RDATE:20261101T020000
RDATE:20271107T020000
END:STANDARD
BEGIN:DAYLIGHT
TZNAME:EDT
DTSTART:20260308T020000
TZOFFSETFROM:-0500
TZOFFSETTO:-0400
RDATE:20270314T020000
END:DAYLIGHT
END:VTIMEZONE
BEGIN:VEVENT
UID:3d44a910-25a1-43d4-bdab-dd563dca67aa
DTSTAMP:20260425T004351Z
DESCRIPTION:Join us for breakfast at the Center!
DTSTART;TZID=America/New_York:20260812T090000
DTEND;TZID=America/New_York:20260812T100000
LOCATION:
SUMMARY:Breakfast Club (In Center)
END:VEVENT
END:VCALENDAR
