BEGIN:VCALENDAR
VERSION:2.0
PRODID:-//rssny.org//NONSGML kigkonsult.se iCalcreator 2.30.10//
CALSCALE:GREGORIAN
METHOD:PUBLISH
UID:849a3000-bac3-420d-9d56-e7c4ddce405b
X-WR-CALDESC:Come and start your morning with Chair yoga and meditation.
X-WR-RELCALID:e2ef9800e7c7a8505c3f225ddd30c151
X-WR-TIMEZONE:America/New_York
BEGIN:VTIMEZONE
TZID:America/New_York
BEGIN:STANDARD
TZNAME:EST
DTSTART:20251102T020000
TZOFFSETFROM:-0400
TZOFFSETTO:-0500
RDATE:20261101T020000
RDATE:20271107T020000
END:STANDARD
BEGIN:DAYLIGHT
TZNAME:EDT
DTSTART:20260308T020000
TZOFFSETFROM:-0500
TZOFFSETTO:-0400
RDATE:20270314T020000
END:DAYLIGHT
END:VTIMEZONE
BEGIN:VEVENT
UID:02b7745c-a3aa-4221-ae68-a927be7ff577
DTSTAMP:20260425T004614Z
DESCRIPTION:Come and start your morning with Chair yoga and meditation.
DTSTART;TZID=America/New_York:20260806T094500
DTEND;TZID=America/New_York:20260806T104500
LOCATION:
SUMMARY:Chair Yoga with Anita: Strengthen and Balance (In Center)
END:VEVENT
END:VCALENDAR
