BEGIN:VCALENDAR
VERSION:2.0
PRODID:-//rssny.org//NONSGML kigkonsult.se iCalcreator 2.30.10//
CALSCALE:GREGORIAN
METHOD:PUBLISH
UID:5a70fe93-4fd9-4511-bcd1-045916724c7e
X-WR-CALDESC:To register: https://airtable.com/appXGCAC8Qle5hwrm/shrO59MUIS
 ZyYYJ7D
X-WR-RELCALID:c8a8534ae9d94b0446d661d05bc6d1c3
X-WR-TIMEZONE:America/New_York
BEGIN:VTIMEZONE
TZID:America/New_York
BEGIN:STANDARD
TZNAME:EST
DTSTART:20251102T020000
TZOFFSETFROM:-0400
TZOFFSETTO:-0500
RDATE:20261101T020000
RDATE:20271107T020000
END:STANDARD
BEGIN:DAYLIGHT
TZNAME:EDT
DTSTART:20260308T020000
TZOFFSETFROM:-0500
TZOFFSETTO:-0400
RDATE:20270314T020000
END:DAYLIGHT
END:VTIMEZONE
BEGIN:VEVENT
UID:30be8fbe-6c5f-4672-8d2c-31032c3820c6
DTSTAMP:20260425T004526Z
DESCRIPTION:To register: https://airtable.com/appXGCAC8Qle5hwrm/shrO59MUISZ
 yYYJ7D
DTSTART;TZID=America/New_York:20260803T120000
DTEND;TZID=America/New_York:20260803T130000
LOCATION:https://airtable.com/appXGCAC8Qle5hwrm/shrO59MUISZyYYJ7D
SUMMARY:Concerts in Motion: Meditative Mondays (This is not an RSS event)
END:VEVENT
END:VCALENDAR
