BEGIN:VCALENDAR
VERSION:2.0
PRODID:-//rssny.org//NONSGML kigkonsult.se iCalcreator 2.30.10//
CALSCALE:GREGORIAN
METHOD:PUBLISH
UID:65712751-7cab-4a1d-886d-b9fb639f97bb
X-WR-CALDESC:Join us for breakfast at the Center!
X-WR-RELCALID:5cabf3ede5d9cd2db8c09ec62d761a81
X-WR-TIMEZONE:America/New_York
BEGIN:VTIMEZONE
TZID:America/New_York
BEGIN:STANDARD
TZNAME:EST
DTSTART:20251102T020000
TZOFFSETFROM:-0400
TZOFFSETTO:-0500
RDATE:20261101T020000
RDATE:20271107T020000
END:STANDARD
BEGIN:DAYLIGHT
TZNAME:EDT
DTSTART:20260308T020000
TZOFFSETFROM:-0500
TZOFFSETTO:-0400
RDATE:20270314T020000
END:DAYLIGHT
END:VTIMEZONE
BEGIN:VEVENT
UID:a21f4b21-a7f4-44bb-a7f9-987b8ac5daab
DTSTAMP:20260424T213752Z
DESCRIPTION:Join us for breakfast at the Center!
DTSTART;TZID=America/New_York:20260731T090000
DTEND;TZID=America/New_York:20260731T100000
LOCATION:
SUMMARY:Breakfast Club (In Center)
END:VEVENT
END:VCALENDAR
