BEGIN:VCALENDAR
VERSION:2.0
PRODID:-//rssny.org//NONSGML kigkonsult.se iCalcreator 2.30.10//
CALSCALE:GREGORIAN
METHOD:PUBLISH
UID:22e590f6-feb9-48df-8959-151d42d6b75d
X-WR-CALDESC:Join us for breakfast at the Center!
X-WR-RELCALID:fb6e912f90f70ada11ca1bad479f1d0a
X-WR-TIMEZONE:America/New_York
BEGIN:VTIMEZONE
TZID:America/New_York
BEGIN:STANDARD
TZNAME:EST
DTSTART:20251102T020000
TZOFFSETFROM:-0400
TZOFFSETTO:-0500
RDATE:20261101T020000
RDATE:20271107T020000
END:STANDARD
BEGIN:DAYLIGHT
TZNAME:EDT
DTSTART:20260308T020000
TZOFFSETFROM:-0500
TZOFFSETTO:-0400
RDATE:20270314T020000
END:DAYLIGHT
END:VTIMEZONE
BEGIN:VEVENT
UID:e6cccb3d-eac9-4efa-a5d8-89e16ed0df9b
DTSTAMP:20260424T230532Z
DESCRIPTION:Join us for breakfast at the Center!
DTSTART;TZID=America/New_York:20260724T090000
DTEND;TZID=America/New_York:20260724T100000
LOCATION:
SUMMARY:Breakfast Club (In Center)
END:VEVENT
END:VCALENDAR
