BEGIN:VCALENDAR
VERSION:2.0
PRODID:-//rssny.org//NONSGML kigkonsult.se iCalcreator 2.30.10//
CALSCALE:GREGORIAN
METHOD:PUBLISH
UID:4487858c-5091-41a2-b578-5de6ae45fa0a
X-WR-CALDESC:Join us for breakfast at the Center!
X-WR-RELCALID:82a25db73e41935122207144b83df8f9
X-WR-TIMEZONE:America/New_York
BEGIN:VTIMEZONE
TZID:America/New_York
BEGIN:STANDARD
TZNAME:EST
DTSTART:20251102T020000
TZOFFSETFROM:-0400
TZOFFSETTO:-0500
RDATE:20261101T020000
RDATE:20271107T020000
END:STANDARD
BEGIN:DAYLIGHT
TZNAME:EDT
DTSTART:20260308T020000
TZOFFSETFROM:-0500
TZOFFSETTO:-0400
RDATE:20270314T020000
END:DAYLIGHT
END:VTIMEZONE
BEGIN:VEVENT
UID:c0ea9e0a-7151-4d66-b526-444d8897bb0b
DTSTAMP:20260424T230534Z
DESCRIPTION:Join us for breakfast at the Center!
DTSTART;TZID=America/New_York:20260722T090000
DTEND;TZID=America/New_York:20260722T100000
LOCATION:
SUMMARY:Breakfast Club (In Center)
END:VEVENT
END:VCALENDAR
