BEGIN:VCALENDAR
VERSION:2.0
PRODID:-//rssny.org//NONSGML kigkonsult.se iCalcreator 2.30.10//
CALSCALE:GREGORIAN
METHOD:PUBLISH
UID:62bfc756-3b52-4682-9ce3-0c03dac06046
X-WR-CALDESC:
X-WR-RELCALID:d0032a7599f1004cc3310d0e0c1bb8de
X-WR-TIMEZONE:America/New_York
BEGIN:VTIMEZONE
TZID:America/New_York
BEGIN:STANDARD
TZNAME:EST
DTSTART:20251102T020000
TZOFFSETFROM:-0400
TZOFFSETTO:-0500
RDATE:20261101T020000
RDATE:20271107T020000
END:STANDARD
BEGIN:DAYLIGHT
TZNAME:EDT
DTSTART:20260308T020000
TZOFFSETFROM:-0500
TZOFFSETTO:-0400
RDATE:20270314T020000
END:DAYLIGHT
END:VTIMEZONE
BEGIN:VEVENT
UID:0c5df0f1-0292-49a8-8c5b-10874967c94d
DTSTAMP:20260424T213750Z
DESCRIPTION:
DTSTART;TZID=America/New_York:20260629T131500
DTEND;TZID=America/New_York:20260629T150000
LOCATION:
SUMMARY:Bronx 250 Tapestry
END:VEVENT
END:VCALENDAR
