BEGIN:VCALENDAR
VERSION:2.0
PRODID:-//rssny.org//NONSGML kigkonsult.se iCalcreator 2.30.10//
CALSCALE:GREGORIAN
METHOD:PUBLISH
UID:db081dbb-6e6f-4676-aa37-851f49a41c58
X-WR-CALDESC:Register here - https://airtable.com/appXGCAC8Qle5hwrm/shrO59M
 UISZyYYJ7D
X-WR-RELCALID:f70e18494aea9d6e916130bfd903fa79
X-WR-TIMEZONE:America/New_York
BEGIN:VTIMEZONE
TZID:America/New_York
BEGIN:STANDARD
TZNAME:EST
DTSTART:20251102T020000
TZOFFSETFROM:-0400
TZOFFSETTO:-0500
RDATE:20261101T020000
RDATE:20271107T020000
END:STANDARD
BEGIN:DAYLIGHT
TZNAME:EDT
DTSTART:20260308T020000
TZOFFSETFROM:-0500
TZOFFSETTO:-0400
RDATE:20270314T020000
END:DAYLIGHT
END:VTIMEZONE
BEGIN:VEVENT
UID:c19fd3fd-9a74-4775-8c63-a75715b00c6c
DTSTAMP:20260424T202442Z
DESCRIPTION:Register here - https://airtable.com/appXGCAC8Qle5hwrm/shrO59MU
 ISZyYYJ7D
DTSTART;TZID=America/New_York:20260623T120000
DTEND;TZID=America/New_York:20260623T130000
LOCATION:https://airtable.com/appXGCAC8Qle5hwrm/shrO59MUISZyYYJ7D
SUMMARY:Concerts in Motion: Songbook Tuesdays (This is not an RSS event)
END:VEVENT
END:VCALENDAR
