BEGIN:VCALENDAR
VERSION:2.0
PRODID:-//rssny.org//NONSGML kigkonsult.se iCalcreator 2.30.10//
CALSCALE:GREGORIAN
METHOD:PUBLISH
UID:510926f0-350c-4f2a-b6d7-d479d02ef029
X-WR-CALDESC:
X-WR-RELCALID:8b88aa7d92fc6ed567fb34137ebb209c
X-WR-TIMEZONE:America/New_York
BEGIN:VTIMEZONE
TZID:America/New_York
BEGIN:STANDARD
TZNAME:EST
DTSTART:20251102T020000
TZOFFSETFROM:-0400
TZOFFSETTO:-0500
RDATE:20261101T020000
RDATE:20271107T020000
END:STANDARD
BEGIN:DAYLIGHT
TZNAME:EDT
DTSTART:20260308T020000
TZOFFSETFROM:-0500
TZOFFSETTO:-0400
RDATE:20270314T020000
END:DAYLIGHT
END:VTIMEZONE
BEGIN:VEVENT
UID:0e9b55d8-5c02-48f4-a95a-2b0be1e3cfe4
DTSTAMP:20260424T213750Z
DESCRIPTION:
DTSTART;TZID=America/New_York:20260617T120000
DTEND;TZID=America/New_York:20260617T150000
LOCATION:
SUMMARY:PLACEHOLDER: Visions (At Methodist Home)
END:VEVENT
END:VCALENDAR
