BEGIN:VCALENDAR
VERSION:2.0
PRODID:-//rssny.org//NONSGML kigkonsult.se iCalcreator 2.30.10//
CALSCALE:GREGORIAN
METHOD:PUBLISH
UID:de68780d-6bda-4a16-a8b6-1b0e5cc82061
X-WR-CALDESC:Join Barbara Denson for a workshop about all things plant-rela
 ted. Each class will be something new\, whether learning about various pla
 nts and plant care or engaging in fun craft projects related to them.
X-WR-RELCALID:f1632ce59dce43108f46695aded6d91c
X-WR-TIMEZONE:America/New_York
BEGIN:VTIMEZONE
TZID:America/New_York
BEGIN:STANDARD
TZNAME:EST
DTSTART:20251102T020000
TZOFFSETFROM:-0400
TZOFFSETTO:-0500
RDATE:20261101T020000
RDATE:20271107T020000
END:STANDARD
BEGIN:DAYLIGHT
TZNAME:EDT
DTSTART:20260308T020000
TZOFFSETFROM:-0500
TZOFFSETTO:-0400
RDATE:20270314T020000
END:DAYLIGHT
END:VTIMEZONE
BEGIN:VEVENT
UID:09af63d9-2b66-46fb-9ad9-6d53173965d7
DTSTAMP:20260424T140721Z
DESCRIPTION:Join Barbara Denson for a workshop about all things plant-relat
 ed. Each class will be something new\, whether learning about various plan
 ts and plant care or engaging in fun craft projects related to them.
DTSTART;TZID=America/New_York:20260515T131500
DTEND;TZID=America/New_York:20260515T141500
LOCATION:
SUMMARY:Horticultural Wellness Workshops with Barbara: Homemade Salad Dress
 ings (In House)
END:VEVENT
END:VCALENDAR
