BEGIN:VCALENDAR
VERSION:2.0
PRODID:-//rssny.org//NONSGML kigkonsult.se iCalcreator 2.30.10//
CALSCALE:GREGORIAN
METHOD:PUBLISH
UID:789e5e72-06ba-4e31-b3b2-94e73be99081
X-WR-CALDESC:
X-WR-RELCALID:367bd5e18123feb50be26ba446e90cc7
X-WR-TIMEZONE:America/New_York
BEGIN:VTIMEZONE
TZID:America/New_York
BEGIN:STANDARD
TZNAME:EST
DTSTART:20251102T020000
TZOFFSETFROM:-0400
TZOFFSETTO:-0500
RDATE:20261101T020000
RDATE:20271107T020000
END:STANDARD
BEGIN:DAYLIGHT
TZNAME:EDT
DTSTART:20260308T020000
TZOFFSETFROM:-0500
TZOFFSETTO:-0400
RDATE:20270314T020000
END:DAYLIGHT
END:VTIMEZONE
BEGIN:VEVENT
UID:01755620-ddf7-403e-a4ce-74ca425563b3
DTSTAMP:20260424T155259Z
DESCRIPTION:
DTSTART;TZID=America/New_York:20260513T130000
DTEND;TZID=America/New_York:20260513T140000
LOCATION:
SUMMARY:Scam series
END:VEVENT
END:VCALENDAR
