BEGIN:VCALENDAR
VERSION:2.0
PRODID:-//rssny.org//NONSGML kigkonsult.se iCalcreator 2.30.10//
CALSCALE:GREGORIAN
METHOD:PUBLISH
UID:4395c55a-bbdb-4158-a8ef-700e450c2cc8
X-WR-CALDESC:
X-WR-RELCALID:2458c392cf6b0763d85cf2310013ca7f
X-WR-TIMEZONE:America/New_York
BEGIN:VTIMEZONE
TZID:America/New_York
BEGIN:STANDARD
TZNAME:EST
DTSTART:20251102T020000
TZOFFSETFROM:-0400
TZOFFSETTO:-0500
RDATE:20261101T020000
RDATE:20271107T020000
END:STANDARD
BEGIN:DAYLIGHT
TZNAME:EDT
DTSTART:20260308T020000
TZOFFSETFROM:-0500
TZOFFSETTO:-0400
RDATE:20270314T020000
END:DAYLIGHT
END:VTIMEZONE
BEGIN:VEVENT
UID:f880696d-dc98-4119-93b3-ee50f7c58b61
DTSTAMP:20260424T155401Z
DESCRIPTION:
DTSTART;TZID=America/New_York:20260511T130000
DTEND;TZID=America/New_York:20260511T140000
LOCATION:
SUMMARY:Scam series
END:VEVENT
END:VCALENDAR
