BEGIN:VCALENDAR
VERSION:2.0
PRODID:-//rssny.org//NONSGML kigkonsult.se iCalcreator 2.30.10//
CALSCALE:GREGORIAN
METHOD:PUBLISH
UID:8410591c-c21f-468f-bd45-a2bd040d3cb3
X-WR-CALDESC:Grab a cup of tea and a treat! We’re hosting a friendly get-to
 gether to honor all the 'mother-figures' in our community. This isn’t just
  for moms—it’s for anyone who has nurtured\, mentored\, or cared for those
  around them. \n\nWe’ll have a variety of teas\, some light snacks\, and a
  simple activity to celebrate. Come for the tea\, stay for the company!\n
 \nSpace is limited!!! To register: info@rssny.org or call 718-884-5900 ext
 . 130
X-WR-RELCALID:44ea6884379946c0dca1e9d1bbcd74d0
X-WR-TIMEZONE:America/New_York
BEGIN:VTIMEZONE
TZID:America/New_York
BEGIN:STANDARD
TZNAME:EST
DTSTART:20251102T020000
TZOFFSETFROM:-0400
TZOFFSETTO:-0500
RDATE:20261101T020000
RDATE:20271107T020000
END:STANDARD
BEGIN:DAYLIGHT
TZNAME:EDT
DTSTART:20260308T020000
TZOFFSETFROM:-0500
TZOFFSETTO:-0400
RDATE:20270314T020000
END:DAYLIGHT
END:VTIMEZONE
BEGIN:VEVENT
UID:cd89e091-13f7-4a0a-b6cc-9fe191d5e281
DTSTAMP:20260424T155253Z
DESCRIPTION:Grab a cup of tea and a treat! We’re hosting a friendly get-tog
 ether to honor all the 'mother-figures' in our community. This isn’t just 
 for moms—it’s for anyone who has nurtured\, mentored\, or cared for those 
 around them. \n\nWe’ll have a variety of teas\, some light snacks\, and a 
 simple activity to celebrate. Come for the tea\, stay for the company!\n\n
 Space is limited!!! To register: info@rssny.org or call 718-884-5900 ext. 
 130
DTSTART;TZID=America/New_York:20260508T133000
DTEND;TZID=America/New_York:20260508T150000
LOCATION:
SUMMARY:Mother's Day Tea (In Center)
END:VEVENT
END:VCALENDAR
