BEGIN:VCALENDAR
VERSION:2.0
PRODID:-//rssny.org//NONSGML kigkonsult.se iCalcreator 2.30.10//
CALSCALE:GREGORIAN
METHOD:PUBLISH
UID:6987dee0-0702-41c9-8b45-928c4b288f2b
X-WR-CALDESC:Come and start your morning with Chair yoga and meditation.
X-WR-RELCALID:13e89d6345dac9c4aee997e49cb2a3e0
X-WR-TIMEZONE:America/New_York
BEGIN:VTIMEZONE
TZID:America/New_York
BEGIN:STANDARD
TZNAME:EST
DTSTART:20251102T020000
TZOFFSETFROM:-0400
TZOFFSETTO:-0500
RDATE:20261101T020000
END:STANDARD
BEGIN:DAYLIGHT
TZNAME:EDT
DTSTART:20260308T020000
TZOFFSETFROM:-0500
TZOFFSETTO:-0400
RDATE:20270314T020000
END:DAYLIGHT
END:VTIMEZONE
BEGIN:VEVENT
UID:a63f6a38-a804-4fdf-b37a-a2a8a1e3a104
DTSTAMP:20260424T123323Z
DESCRIPTION:Come and start your morning with Chair yoga and meditation.
DTSTART;TZID=America/New_York:20260423T094500
DTEND;TZID=America/New_York:20260423T104500
LOCATION:
SUMMARY:Chair Yoga with Anita: Strengthen and Balance (In Center)CANCELED
END:VEVENT
END:VCALENDAR
