BEGIN:VCALENDAR
VERSION:2.0
PRODID:-//rssny.org//NONSGML kigkonsult.se iCalcreator 2.30.10//
CALSCALE:GREGORIAN
METHOD:PUBLISH
UID:8a438cca-9419-498c-aade-610cfdc76193
X-WR-CALDESC:'Celebrate the season with us this Wednesday! Enjoy a spring c
 oncert by the Flume Orchestra here at RSS\, with refreshments to follow.
X-WR-RELCALID:4df4c049dc2bede8acb690e0c6a7557a
X-WR-TIMEZONE:America/New_York
BEGIN:VTIMEZONE
TZID:America/New_York
BEGIN:STANDARD
TZNAME:EST
DTSTART:20251102T020000
TZOFFSETFROM:-0400
TZOFFSETTO:-0500
RDATE:20261101T020000
END:STANDARD
BEGIN:DAYLIGHT
TZNAME:EDT
DTSTART:20260308T020000
TZOFFSETFROM:-0500
TZOFFSETTO:-0400
RDATE:20270314T020000
END:DAYLIGHT
END:VTIMEZONE
BEGIN:VEVENT
UID:98148c6a-ebbd-4c1b-9eae-d8aae7c3c60e
DTSTAMP:20260424T123322Z
DESCRIPTION:'Celebrate the season with us this Wednesday! Enjoy a spring co
 ncert by the Flume Orchestra here at RSS\, with refreshments to follow.
DTSTART;TZID=America/New_York:20260422T153000
DTEND;TZID=America/New_York:20260422T161500
LOCATION:
SUMMARY:Flume Concert
END:VEVENT
END:VCALENDAR
