BEGIN:VCALENDAR
VERSION:2.0
PRODID:-//rssny.org//NONSGML kigkonsult.se iCalcreator 2.30.10//
CALSCALE:GREGORIAN
METHOD:PUBLISH
UID:99fef6ba-82a4-4e41-91b6-63a6ccfaa763
X-WR-CALDESC:Please fill out this form:\n\nhttps://rssny.org/class-forms/te
 chnology-training.html
X-WR-RELCALID:c6391b4f5725a22b7b29d441bc864be3
X-WR-TIMEZONE:America/New_York
BEGIN:VTIMEZONE
TZID:America/New_York
BEGIN:STANDARD
TZNAME:EST
DTSTART:20251102T020000
TZOFFSETFROM:-0400
TZOFFSETTO:-0500
RDATE:20261101T020000
END:STANDARD
BEGIN:DAYLIGHT
TZNAME:EDT
DTSTART:20260308T020000
TZOFFSETFROM:-0500
TZOFFSETTO:-0400
RDATE:20270314T020000
END:DAYLIGHT
END:VTIMEZONE
BEGIN:VEVENT
UID:2ec6bd61-ce62-44a6-ab4a-ce4441916243
DTSTAMP:20260424T123441Z
DESCRIPTION:Please fill out this form:\n\nhttps://rssny.org/class-forms/tec
 hnology-training.html
DTSTART;TZID=America/New_York:20260421T110000
DTEND;TZID=America/New_York:20260421T120000
LOCATION:https://rssny.org/class-forms/technology-training.html
SUMMARY:Technology Group Training with Caroline: Password management (Onlin
 e)
END:VEVENT
END:VCALENDAR
