BEGIN:VCALENDAR
VERSION:2.0
PRODID:-//rssny.org//NONSGML kigkonsult.se iCalcreator 2.30.10//
CALSCALE:GREGORIAN
METHOD:PUBLISH
UID:5ef1c186-bc33-45c1-995f-8268b65f691a
X-WR-CALDESC:Weekly non-competitive bridge game
X-WR-RELCALID:1fcfca1523e6610b1113bdb877814123
X-WR-TIMEZONE:America/New_York
BEGIN:VTIMEZONE
TZID:America/New_York
BEGIN:STANDARD
TZNAME:EST
DTSTART:20251102T020000
TZOFFSETFROM:-0400
TZOFFSETTO:-0500
RDATE:20261101T020000
END:STANDARD
BEGIN:DAYLIGHT
TZNAME:EDT
DTSTART:20260308T020000
TZOFFSETFROM:-0500
TZOFFSETTO:-0400
RDATE:20270314T020000
END:DAYLIGHT
END:VTIMEZONE
BEGIN:VEVENT
UID:c99f5be5-df66-4159-97a0-ee37017ab494
DTSTAMP:20260424T123559Z
DESCRIPTION:Weekly non-competitive bridge game
DTSTART;TZID=America/New_York:20260417T131500
DTEND;TZID=America/New_York:20260417T163000
LOCATION:
SUMMARY:Leisure Games Bridge (In Center)
END:VEVENT
END:VCALENDAR
