BEGIN:VCALENDAR
VERSION:2.0
PRODID:-//rssny.org//NONSGML kigkonsult.se iCalcreator 2.30.10//
CALSCALE:GREGORIAN
METHOD:PUBLISH
UID:800dff3d-bcf5-4a5b-a3e4-20eaaed2489d
X-WR-CALDESC:This class is in the center.\n\nLevel: Beginner
X-WR-RELCALID:05e0416b1f1b81599509fefeea5e7741
X-WR-TIMEZONE:America/New_York
BEGIN:VTIMEZONE
TZID:America/New_York
BEGIN:STANDARD
TZNAME:EST
DTSTART:20251102T020000
TZOFFSETFROM:-0400
TZOFFSETTO:-0500
RDATE:20261101T020000
END:STANDARD
BEGIN:DAYLIGHT
TZNAME:EDT
DTSTART:20260308T020000
TZOFFSETFROM:-0500
TZOFFSETTO:-0400
RDATE:20270314T020000
END:DAYLIGHT
END:VTIMEZONE
BEGIN:VEVENT
UID:8b519d39-b55f-48eb-b52d-589d6b6ee327
DTSTAMP:20260424T124252Z
DESCRIPTION:This class is in the center.\n\nLevel: Beginner
DTSTART;TZID=America/New_York:20260414T130000
DTEND;TZID=America/New_York:20260414T140000
LOCATION:
SUMMARY:Technology Group Training with Caroline: Unsubscribe from spam emai
 ls and scams (IN CENTER)
END:VEVENT
END:VCALENDAR
