BEGIN:VCALENDAR
VERSION:2.0
PRODID:-//rssny.org//NONSGML kigkonsult.se iCalcreator 2.30.10//
CALSCALE:GREGORIAN
METHOD:PUBLISH
UID:7aba82ba-bace-410e-8559-b5d7f8a1bb23
X-WR-CALDESC:Join us for breakfast at the Center!
X-WR-RELCALID:ac04a904847d62845cfc6b031b6d98c1
X-WR-TIMEZONE:America/New_York
BEGIN:VTIMEZONE
TZID:America/New_York
BEGIN:STANDARD
TZNAME:EST
DTSTART:20251102T020000
TZOFFSETFROM:-0400
TZOFFSETTO:-0500
RDATE:20261101T020000
END:STANDARD
BEGIN:DAYLIGHT
TZNAME:EDT
DTSTART:20260308T020000
TZOFFSETFROM:-0500
TZOFFSETTO:-0400
RDATE:20270314T020000
END:DAYLIGHT
END:VTIMEZONE
BEGIN:VEVENT
UID:a706020b-ead5-4bd0-9f39-5c10e57dce8d
DTSTAMP:20260424T123319Z
DESCRIPTION:Join us for breakfast at the Center!
DTSTART;TZID=America/New_York:20260413T090000
DTEND;TZID=America/New_York:20260413T100000
LOCATION:
SUMMARY:Breakfast Club (In Center)
END:VEVENT
END:VCALENDAR
